BEGIN:VCALENDAR
PRODID:-//github.com/rianjs/ical.net//NONSGML ical.net 4.0//EN
VERSION:2.0
BEGIN:VTIMEZONE
TZID:Central Standard Time
X-LIC-LOCATION:America/Chicago
BEGIN:STANDARD
DTSTART:20241103T020000
RRULE:FREQ=YEARLY;BYDAY=1SU;BYMONTH=11
TZNAME:CST
TZOFFSETFROM:-0500
TZOFFSETTO:-0600
END:STANDARD
BEGIN:DAYLIGHT
DTSTART:20250309T020000
RRULE:FREQ=YEARLY;BYDAY=2SU;BYMONTH=3
TZNAME:CDT
TZOFFSETFROM:-0600
TZOFFSETTO:-0500
END:DAYLIGHT
END:VTIMEZONE
BEGIN:VEVENT
DTEND;TZID=Central Standard Time:20260519T123000
DTSTAMP:20260423T190907Z
DTSTART;TZID=Central Standard Time:20260519T093000
LOCATION:Ritchie Bros. Yards  2400 Ritchie Road Morris\, IL 60450 United S
 tates
ORGANIZER;CN=;SENT-BY="mailto:":
SEQUENCE:0
SUMMARY:IMUA: IMUA Field Trip: Ritchie Bros. Yard in Morris\, IL
UID:b368f99b-cf76-4357-b6ba-59eaf038b4e5
END:VEVENT
END:VCALENDAR
